View In:
ArcGIS JavaScript
ArcGIS Online Map Viewer
ArcGIS Earth
ArcGIS Pro
Service Description: GIGL Public Open Space cached map service for Green Infrastructure
Map Name: gigl_pos_web_service_01
Legend
All Layers and Tables
Dynamic Legend
Dynamic All Layers
Layers:
Description: GIGL Public Open Space cached map service for Green Infrastructure
Service Item Id: 3769062238ca477a8bbd2097c5f8f17b
Copyright Text: Greenspace Information for Greater London CIC 2018
Spatial Reference:
102100
(3857)
LatestVCSWkid(0)
Single Fused Map Cache: true
Tile Info:
- Height: 256
- Width: 256
- DPI: 96
-
Levels of Detail: 24
-
Level ID: 1
[ Start Tile, End Tile ]
- Resolution: 78271.5169639999
- Scale: 2.95828763795777E8
-
Level ID: 2
[ Start Tile, End Tile ]
- Resolution: 39135.7584820001
- Scale: 1.47914381897889E8
-
Level ID: 3
[ Start Tile, End Tile ]
- Resolution: 19567.8792409999
- Scale: 7.3957190948944E7
-
Level ID: 4
[ Start Tile, End Tile ]
- Resolution: 9783.93962049996
- Scale: 3.6978595474472E7
-
Level ID: 5
[ Start Tile, End Tile ]
- Resolution: 4891.96981024998
- Scale: 1.8489297737236E7
- Format: PNG
- Compression Quality: 0.0
- Origin: X: -2.0037508342787E7
Y: 2.0037508342787E7
- Spatial Reference: 102100
(3857)
LatestVCSWkid(0)
Storage Info:
- Storage Format: esriMapCacheStorageModeCompactV2
- Packet Size: 128
Initial Extent:
XMin: -144287.24718117353
YMin: 6630170.914970143
XMax: 120796.3778739812
YMax: 6808219.004735982
Spatial Reference: 102100
(0)
LatestVCSWkid(0)
Full Extent:
XMin: -58833.24655783004
YMin: 6671430.105571446
XMax: 34989.16927238155
YMax: 6767142.021260319
Spatial Reference: 102100
(0)
LatestVCSWkid(0)
Units: esriMeters
Supported Image Format Types: PNG32,PNG24,PNG,JPG,DIB,TIFF,EMF,PS,PDF,GIF,SVG,SVGZ,BMP
Document Info:
Title: green_infrastructure_map.aprx
Author:
Comments: GIGL Public Open Space cached map service for Green Infrastructure
Subject: GIGL Public Open Space cached map service for Green Infrastructure
Category:
Keywords: GLA GIGL CIC GI
AntialiasingMode: Fast
TextAntialiasingMode: Force
Supports Dynamic Layers: true
MaxRecordCount: 2000
MaxSelectionCount: 2000
MaxImageHeight: 4096
MaxImageWidth: 4096
Supported Query Formats: JSON, geoJSON, PBF
Supports Query Data Elements: true
Min Scale: 1155581.108577
Max Scale: 18055.954822
Supports Datum Transformation: true
Child Resources:
Info
Dynamic Layer
Supported Operations:
Export Map
Identify
QueryLegends
QueryDomains
Find
Return Updates